BEGIN:VCALENDAR
VERSION:2.0
PRODID:-//calparents.org//NONSGML kigkonsult.se iCalcreator 2.30.10//
CALSCALE:GREGORIAN
METHOD:PUBLISH
UID:e959f7ca-e2a3-4264-96f2-8709df845af9
X-WR-CALDESC:Dr. Shende chequeos fisicos\, vacunas\, y consultas pediatrica
 s.\nDr. Shende offers physical exams\, vaccinations\, and pediatric consul
 tations.
X-WR-RELCALID:5c31a6a27bb92bb4fc2aca458ab71781
X-WR-TIMEZONE:America/Los_Angeles
BEGIN:VTIMEZONE
TZID:America/Los_Angeles
BEGIN:STANDARD
TZNAME:PST
DTSTART:20251102T020000
TZOFFSETFROM:-0700
TZOFFSETTO:-0800
RDATE:20261101T020000
END:STANDARD
BEGIN:DAYLIGHT
TZNAME:PDT
DTSTART:20260308T020000
TZOFFSETFROM:-0800
TZOFFSETTO:-0700
RDATE:20270314T020000
END:DAYLIGHT
END:VTIMEZONE
BEGIN:VEVENT
UID:929ad285-e258-41e1-a67d-60321b61ada6
DTSTAMP:20260422T165200Z
DESCRIPTION:Dr. Shende chequeos fisicos\, vacunas\, y consultas pediatricas
 .\nDr. Shende offers physical exams\, vaccinations\, and pediatric consult
 ations.
DTSTART;TZID=America/Los_Angeles:20260409T083000
DTEND;TZID=America/Los_Angeles:20260409T163000
LOCATION:John Reed Elementary School\,   390 Arlen Dr. Portable 3\, Rohnert
  Park\, CA 94928 US
SUMMARY:Mobile Health Clinic/Clinica de Salud Movil
END:VEVENT
END:VCALENDAR
