BEGIN:VCALENDAR
VERSION:2.0
PRODID:-//calparents.org//NONSGML kigkonsult.se iCalcreator 2.30.10//
CALSCALE:GREGORIAN
METHOD:PUBLISH
UID:d61d7bed-d4c8-4fc2-ae15-ab4577298cb6
X-WR-CALDESC:Dr Mario chequeos fisicos\, vacunas\, y consultas pediatricas 
 y de adultos.\nDr.Mario offers physical exams\, vaccinations\, and pediatr
 ic and adult consultations.
X-WR-RELCALID:3923563c24dec5ad67004cf61aadcd2c
X-WR-TIMEZONE:America/Los_Angeles
BEGIN:VTIMEZONE
TZID:America/Los_Angeles
BEGIN:STANDARD
TZNAME:PST
DTSTART:20251102T020000
TZOFFSETFROM:-0700
TZOFFSETTO:-0800
RDATE:20261101T020000
END:STANDARD
BEGIN:DAYLIGHT
TZNAME:PDT
DTSTART:20260308T020000
TZOFFSETFROM:-0800
TZOFFSETTO:-0700
RDATE:20270314T020000
END:DAYLIGHT
END:VTIMEZONE
BEGIN:VEVENT
UID:0294997e-b3a9-432b-bc46-3a4e41262e03
DTSTAMP:20260424T100630Z
DESCRIPTION:Dr Mario chequeos fisicos\, vacunas\, y consultas pediatricas y
  de adultos.\nDr.Mario offers physical exams\, vaccinations\, and pediatri
 c and adult consultations.
DTSTART;TZID=America/Los_Angeles:20260402T083000
DTEND;TZID=America/Los_Angeles:20260402T163000
LOCATION:John Reed Elementary School\,   390 Arlen Dr. Portable 3\, Rohnert
  Park\, CA 94928 US
SUMMARY:Mobile Health Clinic/Clinica de Salud Movil
END:VEVENT
END:VCALENDAR
