BEGIN:VCALENDAR
VERSION:2.0
PRODID:-//calparents.org//NONSGML kigkonsult.se iCalcreator 2.30.10//
CALSCALE:GREGORIAN
METHOD:PUBLISH
UID:c7037373-0157-4289-a705-e0b0811188b2
X-WR-CALDESC:Cuarentena y fajado\nLa tradicion de la cuarentena cuenta con 
 el fajado. haremos una tintura de plantas medicinales y aprenderemos como 
 usarla con una banda en este tiempo de cuidado y amor.
X-WR-RELCALID:c85246193cd76e31cafb2f1b2fce1184
X-WR-TIMEZONE:America/Los_Angeles
BEGIN:VTIMEZONE
TZID:America/Los_Angeles
BEGIN:STANDARD
TZNAME:PST
DTSTART:20251102T020000
TZOFFSETFROM:-0700
TZOFFSETTO:-0800
RDATE:20261101T020000
END:STANDARD
BEGIN:DAYLIGHT
TZNAME:PDT
DTSTART:20260308T020000
TZOFFSETFROM:-0800
TZOFFSETTO:-0700
RDATE:20270314T020000
END:DAYLIGHT
END:VTIMEZONE
BEGIN:VEVENT
UID:b453e25e-458f-4be3-bb3d-0a7012c0d993
DTSTAMP:20260422T163535Z
DESCRIPTION:Cuarentena y fajado\nLa tradicion de la cuarentena cuenta con e
 l fajado. haremos una tintura de plantas medicinales y aprenderemos como u
 sarla con una banda en este tiempo de cuidado y amor.
DTSTART;TZID=America/Los_Angeles:20260401T083000
DTEND;TZID=America/Los_Angeles:20260401T100000
LOCATION:John Reed Elementary School\,   390 Arlen Dr. Portable 3\, Rohnert
  Park\, CA 94928 US
SUMMARY:Apapacho Materno
END:VEVENT
END:VCALENDAR
