BEGIN:VCALENDAR
VERSION:2.0
PRODID:-//calparents.org//NONSGML kigkonsult.se iCalcreator 2.30.10//
CALSCALE:GREGORIAN
METHOD:PUBLISH
UID:ffc66883-593e-4f19-a3e0-4f7db437174e
X-WR-CALDESC:Every other  Friday of every week we have fresh fruits\, veget
 ables\, and/or produce for our families.\nUn Viernes si y uno no  tenemos 
 frutas\, verduras y/ o vegetales frescos para nuestras familias.
X-WR-RELCALID:960d55a3b7d725b8c873692e15a75d64
X-WR-TIMEZONE:America/Los_Angeles
BEGIN:VTIMEZONE
TZID:America/Los_Angeles
BEGIN:STANDARD
TZNAME:PST
DTSTART:20251102T020000
TZOFFSETFROM:-0700
TZOFFSETTO:-0800
RDATE:20261101T020000
END:STANDARD
BEGIN:DAYLIGHT
TZNAME:PDT
DTSTART:20260308T020000
TZOFFSETFROM:-0800
TZOFFSETTO:-0700
RDATE:20270314T020000
END:DAYLIGHT
END:VTIMEZONE
BEGIN:VEVENT
UID:de7301a2-d52c-4386-b34a-c526bff8647b
DTSTAMP:20260422T181006Z
DESCRIPTION:Every other  Friday of every week we have fresh fruits\, vegeta
 bles\, and/or produce for our families.\nUn Viernes si y uno no  tenemos f
 rutas\, verduras y/ o vegetales frescos para nuestras familias.
DTSTART;TZID=America/Los_Angeles:20260327T120000
DTEND;TZID=America/Los_Angeles:20260327T160000
LOCATION:John Reed Elementary School\,   390 Arlen Dr. Portable 3\, Rohnert
  Park\, CA 94928 US
SUMMARY:Banco de Comida de John Reed/ John Reed Food Pantry
END:VEVENT
END:VCALENDAR
