BEGIN:VCALENDAR
VERSION:2.0
PRODID:-//calparents.org//NONSGML kigkonsult.se iCalcreator 2.30.10//
CALSCALE:GREGORIAN
METHOD:PUBLISH
UID:971d00f5-6986-4d2a-8888-d204b396fb5b
X-WR-CALDESC:Dr Shende Chequeos fisicos\, vacunas\, y consultas pediatricas
  y de adultos.\nDr. Shende offers physical exams\, vaccinations\, and pedi
 atric and adult consultations.
X-WR-RELCALID:2ada8327487d50831acb101399112458
X-WR-TIMEZONE:America/Los_Angeles
BEGIN:VTIMEZONE
TZID:America/Los_Angeles
BEGIN:STANDARD
TZNAME:PST
DTSTART:20251102T020000
TZOFFSETFROM:-0700
TZOFFSETTO:-0800
RDATE:20261101T020000
END:STANDARD
BEGIN:DAYLIGHT
TZNAME:PDT
DTSTART:20260308T020000
TZOFFSETFROM:-0800
TZOFFSETTO:-0700
RDATE:20270314T020000
END:DAYLIGHT
END:VTIMEZONE
BEGIN:VEVENT
UID:ad555eaa-0705-4448-8c55-a61d8a9df337
DTSTAMP:20260422T181334Z
DESCRIPTION:Dr Shende Chequeos fisicos\, vacunas\, y consultas pediatricas 
 y de adultos.\nDr. Shende offers physical exams\, vaccinations\, and pedia
 tric and adult consultations.
DTSTART;TZID=America/Los_Angeles:20260326T083000
DTEND;TZID=America/Los_Angeles:20260326T163000
LOCATION:John Reed Elementary School\,   390 Arlen Dr. Portable 3\, Rohnert
  Park\, CA 94928 US
SUMMARY:Mobile Health Clinic/Clinica de Salud Movil
END:VEVENT
END:VCALENDAR
