BEGIN:VCALENDAR
VERSION:2.0
PRODID:-//calparents.org//NONSGML kigkonsult.se iCalcreator 2.30.10//
CALSCALE:GREGORIAN
METHOD:PUBLISH
UID:845c2b60-9f76-4762-806f-2f72939bd8aa
X-WR-CALDESC:Every Wednesday of every week we have fresh fruits\, vegetable
 s\, and/or produce for our families. \nCada Miercoles de cada semana tenem
 os frutas\, verduras y/ o vegetales  frescos para nuestras familias.
X-WR-RELCALID:476c93a4435ab231872fadce261fa36e
X-WR-TIMEZONE:America/Los_Angeles
BEGIN:VTIMEZONE
TZID:America/Los_Angeles
BEGIN:STANDARD
TZNAME:PST
DTSTART:20251102T020000
TZOFFSETFROM:-0700
TZOFFSETTO:-0800
RDATE:20261101T020000
END:STANDARD
BEGIN:DAYLIGHT
TZNAME:PDT
DTSTART:20260308T020000
TZOFFSETFROM:-0800
TZOFFSETTO:-0700
RDATE:20270314T020000
END:DAYLIGHT
END:VTIMEZONE
BEGIN:VEVENT
UID:9de0eef2-8826-4158-871e-aa75f73d4369
DTSTAMP:20260422T181049Z
DESCRIPTION:Every Wednesday of every week we have fresh fruits\, vegetables
 \, and/or produce for our families. \nCada Miercoles de cada semana tenemo
 s frutas\, verduras y/ o vegetales  frescos para nuestras familias.
DTSTART;TZID=America/Los_Angeles:20260325T130000
DTEND;TZID=America/Los_Angeles:20260325T140000
LOCATION:John Reed Elementary School\,   390 Arlen Dr. Portable 3\, Rohnert
  Park\, CA 94928 US
SUMMARY:De la granja a tu despensa - Farm to Pantry
END:VEVENT
END:VCALENDAR
