BEGIN:VCALENDAR
VERSION:2.0
PRODID:-//calparents.org//NONSGML kigkonsult.se iCalcreator 2.30.10//
CALSCALE:GREGORIAN
METHOD:PUBLISH
UID:8a6ef1e0-21b5-496b-898c-29d9006ac072
X-WR-CALDESC:Masaje Relajante \nAprenderemos como hacer un masaje relajante
  \, tanto para embarazadas como para los ninos pequenos.
X-WR-RELCALID:bbe97aa9c9bfe9f5f7477483b24b2f0d
X-WR-TIMEZONE:America/Los_Angeles
BEGIN:VTIMEZONE
TZID:America/Los_Angeles
BEGIN:STANDARD
TZNAME:PST
DTSTART:20251102T020000
TZOFFSETFROM:-0700
TZOFFSETTO:-0800
RDATE:20261101T020000
END:STANDARD
BEGIN:DAYLIGHT
TZNAME:PDT
DTSTART:20260308T020000
TZOFFSETFROM:-0800
TZOFFSETTO:-0700
RDATE:20270314T020000
END:DAYLIGHT
END:VTIMEZONE
BEGIN:VEVENT
UID:9f662ce2-346b-45a5-a576-2df9351e89f5
DTSTAMP:20260422T180727Z
DESCRIPTION:Masaje Relajante \nAprenderemos como hacer un masaje relajante 
 \, tanto para embarazadas como para los ninos pequenos.
DTSTART;TZID=America/Los_Angeles:20260325T083000
DTEND;TZID=America/Los_Angeles:20260325T100000
LOCATION:John Reed Elementary School\,   390 Arlen Dr. Portable 3\, Rohnert
  Park\, CA 94928 US
SUMMARY:Apapacho Materno
END:VEVENT
END:VCALENDAR
