BEGIN:VCALENDAR
VERSION:2.0
PRODID:-//calparents.org//NONSGML kigkonsult.se iCalcreator 2.30.10//
CALSCALE:GREGORIAN
METHOD:PUBLISH
UID:eef668af-49f0-4531-812c-db31a03a6b7c
X-WR-CALDESC:Every other  Friday of every week we have fresh fruits\, veget
 ables\, and/or produce for our families.\nUn Viernes si y uno no  tenemos 
 frutas\, verduras y/ o vegetales frescos para nuestras familias.
X-WR-RELCALID:63b9f057059531ddde3d005d337030df
X-WR-TIMEZONE:America/Los_Angeles
BEGIN:VTIMEZONE
TZID:America/Los_Angeles
BEGIN:STANDARD
TZNAME:PST
DTSTART:20251102T020000
TZOFFSETFROM:-0700
TZOFFSETTO:-0800
RDATE:20261101T020000
END:STANDARD
BEGIN:DAYLIGHT
TZNAME:PDT
DTSTART:20260308T020000
TZOFFSETFROM:-0800
TZOFFSETTO:-0700
RDATE:20270314T020000
END:DAYLIGHT
END:VTIMEZONE
BEGIN:VEVENT
UID:720f9a61-4aea-47e7-b523-18680f6e99fb
DTSTAMP:20260422T181006Z
DESCRIPTION:Every other  Friday of every week we have fresh fruits\, vegeta
 bles\, and/or produce for our families.\nUn Viernes si y uno no  tenemos f
 rutas\, verduras y/ o vegetales frescos para nuestras familias.
DTSTART;TZID=America/Los_Angeles:20260313T123000
DTEND;TZID=America/Los_Angeles:20260313T160000
LOCATION:John Reed Elementary School\,   390 Arlen Dr. Portable 3\, Rohnert
  Park\, CA 94928 US
SUMMARY:Banco de Comida de John Reed/ John Reed Food Pantry
END:VEVENT
END:VCALENDAR
