BEGIN:VCALENDAR
VERSION:2.0
PRODID:-//calparents.org//NONSGML kigkonsult.se iCalcreator 2.30.10//
CALSCALE:GREGORIAN
METHOD:PUBLISH
UID:d3d2fda4-805b-4e78-8634-425520bc0d7a
X-WR-CALDESC:Dr Shende Chequeos fisicos\, vacunas\, y consultas pediatricas
  y de adultos.\nDr. Shende offers physical exams\, vaccinations\, and pedi
 atric and adult consultations.
X-WR-RELCALID:ad09c115cc09a6f915da7e185b387de3
X-WR-TIMEZONE:America/Los_Angeles
BEGIN:VTIMEZONE
TZID:America/Los_Angeles
BEGIN:STANDARD
TZNAME:PST
DTSTART:20251102T020000
TZOFFSETFROM:-0700
TZOFFSETTO:-0800
RDATE:20261101T020000
END:STANDARD
BEGIN:DAYLIGHT
TZNAME:PDT
DTSTART:20260308T020000
TZOFFSETFROM:-0800
TZOFFSETTO:-0700
RDATE:20270314T020000
END:DAYLIGHT
END:VTIMEZONE
BEGIN:VEVENT
UID:f50d2c90-baae-4da3-8e9d-275f00b6adb0
DTSTAMP:20260422T183501Z
DESCRIPTION:Dr Shende Chequeos fisicos\, vacunas\, y consultas pediatricas 
 y de adultos.\nDr. Shende offers physical exams\, vaccinations\, and pedia
 tric and adult consultations.
DTSTART;TZID=America/Los_Angeles:20260312T083000
DTEND;TZID=America/Los_Angeles:20260312T163000
LOCATION:John Reed Elementary School\,   390 Arlen Dr. Portable 3\, Rohnert
  Park\, CA 94928 US
SUMMARY:Mobile Health Clinic/Clinica de Salud Movil
END:VEVENT
END:VCALENDAR
