BEGIN:VCALENDAR
VERSION:2.0
PRODID:-//calparents.org//NONSGML kigkonsult.se iCalcreator 2.30.10//
CALSCALE:GREGORIAN
METHOD:PUBLISH
UID:e17f6b11-46ef-4740-8c99-98ddbb2592da
X-WR-CALDESC:Every Wednesday of every week we have fresh fruits\, vegetable
 s\, and/or produce for our families. \nCada Miercoles de cada semana tenem
 os frutas\, verduras y/ o vegetales  frescos para nuestras familias.
X-WR-RELCALID:bf650a22785de2f5ea272f47cbb8a196
X-WR-TIMEZONE:America/Los_Angeles
BEGIN:VTIMEZONE
TZID:America/Los_Angeles
BEGIN:STANDARD
TZNAME:PST
DTSTART:20251102T020000
TZOFFSETFROM:-0700
TZOFFSETTO:-0800
RDATE:20261101T020000
END:STANDARD
BEGIN:DAYLIGHT
TZNAME:PDT
DTSTART:20260308T020000
TZOFFSETFROM:-0800
TZOFFSETTO:-0700
RDATE:20270314T020000
END:DAYLIGHT
END:VTIMEZONE
BEGIN:VEVENT
UID:f13102f2-262f-458e-bdf8-74e4ffb81e0c
DTSTAMP:20260422T183336Z
DESCRIPTION:Every Wednesday of every week we have fresh fruits\, vegetables
 \, and/or produce for our families. \nCada Miercoles de cada semana tenemo
 s frutas\, verduras y/ o vegetales  frescos para nuestras familias.
DTSTART;TZID=America/Los_Angeles:20260311T130000
DTEND;TZID=America/Los_Angeles:20260311T140000
LOCATION:John Reed Elementary School\,   390 Arlen Dr. Portable 3\, Rohnert
  Park\, CA 94928 US
SUMMARY:De la granja a tu despensa - Farm to Pantry
END:VEVENT
END:VCALENDAR
