BEGIN:VCALENDAR
VERSION:2.0
PRODID:-//calparents.org//NONSGML kigkonsult.se iCalcreator 2.30.10//
CALSCALE:GREGORIAN
METHOD:PUBLISH
UID:18fbab4b-3644-45a6-8a9b-fb9f1b85708c
X-WR-CALDESC:Every Friday of every week we have fresh fruits\, vegetables\,
  and/or produce for our families. \nCada Viernes de cada semana tenemos fr
 utas\, verduras y/ o vegetales  frescos para nuestras familias.
X-WR-RELCALID:a8e775e4ceaa0246b3c1841e84c5b0d1
X-WR-TIMEZONE:America/Los_Angeles
BEGIN:VTIMEZONE
TZID:America/Los_Angeles
BEGIN:STANDARD
TZNAME:PST
DTSTART:20251102T020000
TZOFFSETFROM:-0700
TZOFFSETTO:-0800
RDATE:20261101T020000
END:STANDARD
BEGIN:DAYLIGHT
TZNAME:PDT
DTSTART:20250309T020000
TZOFFSETFROM:-0800
TZOFFSETTO:-0700
RDATE:20260308T020000
RDATE:20270314T020000
END:DAYLIGHT
END:VTIMEZONE
BEGIN:VEVENT
UID:288ca7b6-6db1-4171-ab4e-502429039644
DTSTAMP:20260422T185106Z
DESCRIPTION:Every Friday of every week we have fresh fruits\, vegetables\, 
 and/or produce for our families. \nCada Viernes de cada semana tenemos fru
 tas\, verduras y/ o vegetales  frescos para nuestras familias.
DTSTART;TZID=America/Los_Angeles:20260304T130000
DTEND;TZID=America/Los_Angeles:20260304T140000
LOCATION:John Reed Elementary School\,   390 Arlen Dr. Portable 3\, Rohnert
  Park\, CA 94928 US
SUMMARY:De la granja a tu despensa - Farm to Pantry
END:VEVENT
END:VCALENDAR
