BEGIN:VCALENDAR
VERSION:2.0
PRODID:-//calparents.org//NONSGML kigkonsult.se iCalcreator 2.30.10//
CALSCALE:GREGORIAN
METHOD:PUBLISH
UID:2802d7d0-95e6-4de9-a797-b181999150b4
X-WR-CALDESC:Dr Mario Cherqueos fisicos\, vacunas\, y consultas para adulto
 s. \nDr. Mario offers physical exams\, vaccinations\, and adult consultati
 ons.
X-WR-RELCALID:6f338793d8ae9a13e45730f4da4bc849
X-WR-TIMEZONE:America/Los_Angeles
BEGIN:VTIMEZONE
TZID:America/Los_Angeles
BEGIN:STANDARD
TZNAME:PST
DTSTART:20251102T020000
TZOFFSETFROM:-0700
TZOFFSETTO:-0800
RDATE:20261101T020000
END:STANDARD
BEGIN:DAYLIGHT
TZNAME:PDT
DTSTART:20250309T020000
TZOFFSETFROM:-0800
TZOFFSETTO:-0700
RDATE:20260308T020000
RDATE:20270314T020000
END:DAYLIGHT
END:VTIMEZONE
BEGIN:VEVENT
UID:37ef178f-bbfb-49a3-b9ed-dba107ad7f4f
DTSTAMP:20260422T200443Z
DESCRIPTION:Dr Mario Cherqueos fisicos\, vacunas\, y consultas para adultos
 . \nDr. Mario offers physical exams\, vaccinations\, and adult consultatio
 ns.
DTSTART;TZID=America/Los_Angeles:20260226T083000
DTEND;TZID=America/Los_Angeles:20260226T163000
LOCATION:John Reed Elementary School\,   390 Arlen Dr. Portable 3\, Rohnert
  Park\, CA 94928 US
SUMMARY:Mobile Health Clinic/Clinica de Salud Movil
END:VEVENT
END:VCALENDAR
