BEGIN:VCALENDAR
VERSION:2.0
PRODID:-//calparents.org//NONSGML kigkonsult.se iCalcreator 2.30.10//
CALSCALE:GREGORIAN
METHOD:PUBLISH
UID:c7c2647f-c16f-488f-84c2-b44cc1216f41
X-WR-CALDESC:Te invitamos a nuestro taller Cultivando bienestar donde apren
 deras\, tecnicas de relajacion\, respiracion y meditacion.
X-WR-RELCALID:7e92b3492ad42519f217dfdee461d1c4
X-WR-TIMEZONE:America/Los_Angeles
BEGIN:VTIMEZONE
TZID:America/Los_Angeles
BEGIN:STANDARD
TZNAME:PST
DTSTART:20251102T020000
TZOFFSETFROM:-0700
TZOFFSETTO:-0800
RDATE:20261101T020000
END:STANDARD
BEGIN:DAYLIGHT
TZNAME:PDT
DTSTART:20250309T020000
TZOFFSETFROM:-0800
TZOFFSETTO:-0700
RDATE:20260308T020000
RDATE:20270314T020000
END:DAYLIGHT
END:VTIMEZONE
BEGIN:VEVENT
UID:a8d2f3dc-1d43-48dc-8d7c-e1438c1fb216
DTSTAMP:20260422T193312Z
DESCRIPTION:Te invitamos a nuestro taller Cultivando bienestar donde aprend
 eras\, tecnicas de relajacion\, respiracion y meditacion.
DTSTART;TZID=America/Los_Angeles:20260226T173000
DTEND;TZID=America/Los_Angeles:20260226T183000
LOCATION:John Reed Elementary School\,   390 Arlen Dr. Portable 3\, Rohnert
  Park\, CA 94928 US
SUMMARY:Medicina \,Mente y cuerpo
END:VEVENT
END:VCALENDAR
