BEGIN:VCALENDAR
VERSION:2.0
PRODID:-//calparents.org//NONSGML kigkonsult.se iCalcreator 2.30.10//
CALSCALE:GREGORIAN
METHOD:PUBLISH
UID:7922d63d-b71b-48fb-8f2a-1e717eb931c6
X-WR-CALDESC:Every Friday of every week we have fresh fruits\, vegetables\,
  and/or produce for our families. \nCada Viernes de cada semana tenemos fr
 utas\, verduras y/ o vegetales  frescos para nuestras familias.
X-WR-RELCALID:20ae086199a1fca43f523f430a12f5b7
X-WR-TIMEZONE:America/Los_Angeles
BEGIN:VTIMEZONE
TZID:America/Los_Angeles
BEGIN:STANDARD
TZNAME:PST
DTSTART:20251102T020000
TZOFFSETFROM:-0700
TZOFFSETTO:-0800
RDATE:20261101T020000
END:STANDARD
BEGIN:DAYLIGHT
TZNAME:PDT
DTSTART:20250309T020000
TZOFFSETFROM:-0800
TZOFFSETTO:-0700
RDATE:20260308T020000
RDATE:20270314T020000
END:DAYLIGHT
END:VTIMEZONE
BEGIN:VEVENT
UID:09d32413-a211-48d8-8a1e-21a2ff3ff635
DTSTAMP:20260422T200050Z
DESCRIPTION:Every Friday of every week we have fresh fruits\, vegetables\, 
 and/or produce for our families. \nCada Viernes de cada semana tenemos fru
 tas\, verduras y/ o vegetales  frescos para nuestras familias.
DTSTART;TZID=America/Los_Angeles:20260218T130000
DTEND;TZID=America/Los_Angeles:20260218T140000
LOCATION:John Reed Elementary School\,   390 Arlen Dr. Portable 3\, Rohnert
  Park\, CA 94928 US
SUMMARY:De la granja a tu despensa - Farm to Pantry
END:VEVENT
END:VCALENDAR
