BEGIN:VCALENDAR
VERSION:2.0
PRODID:-//calparents.org//NONSGML kigkonsult.se iCalcreator 2.30.10//
CALSCALE:GREGORIAN
METHOD:PUBLISH
UID:cd19bd2c-e46e-44e6-929d-b72b7c5511dd
X-WR-CALDESC:
X-WR-RELCALID:010dd21ed875d34d2723f737d6c0d5dd
X-WR-TIMEZONE:America/Los_Angeles
BEGIN:VTIMEZONE
TZID:America/Los_Angeles
BEGIN:STANDARD
TZNAME:PST
DTSTART:20251102T020000
TZOFFSETFROM:-0700
TZOFFSETTO:-0800
RDATE:20261101T020000
END:STANDARD
BEGIN:DAYLIGHT
TZNAME:PDT
DTSTART:20250309T020000
TZOFFSETFROM:-0800
TZOFFSETTO:-0700
RDATE:20260308T020000
RDATE:20270314T020000
END:DAYLIGHT
END:VTIMEZONE
BEGIN:VEVENT
UID:1d2e5e8b-f480-4416-89ea-7a959077cc98
DTSTAMP:20260422T193113Z
DESCRIPTION:
DTSTART;TZID=America/Los_Angeles:20260217T083000
DTEND;TZID=America/Los_Angeles:20260217T103000
LOCATION:John Reed Elementary School\,   390 Arlen Dr. Portable 3\, Rohnert
  Park\, CA 94928 US
SUMMARY:Cafecito para mama
END:VEVENT
END:VCALENDAR
