BEGIN:VCALENDAR
VERSION:2.0
PRODID:-//calparents.org//NONSGML kigkonsult.se iCalcreator 2.30.10//
CALSCALE:GREGORIAN
METHOD:PUBLISH
UID:ce55b0ca-cf85-4ff1-8e1b-e23805586b51
X-WR-CALDESC:Dr Mario Cherqueos fisicos\, vacunas\, y consultas para adulto
 s. \nDr. Mario offers physical exams\, vaccinations\, and adult consultati
 ons.
X-WR-RELCALID:3f41f0b751ca21c9963cef9245fd43bf
X-WR-TIMEZONE:America/Los_Angeles
BEGIN:VTIMEZONE
TZID:America/Los_Angeles
BEGIN:STANDARD
TZNAME:PST
DTSTART:20251102T020000
TZOFFSETFROM:-0700
TZOFFSETTO:-0800
RDATE:20261101T020000
END:STANDARD
BEGIN:DAYLIGHT
TZNAME:PDT
DTSTART:20250309T020000
TZOFFSETFROM:-0800
TZOFFSETTO:-0700
RDATE:20260308T020000
RDATE:20270314T020000
END:DAYLIGHT
END:VTIMEZONE
BEGIN:VEVENT
UID:ce9d886a-ad9d-434f-a7ea-a819bfcbe7f0
DTSTAMP:20260422T195247Z
DESCRIPTION:Dr Mario Cherqueos fisicos\, vacunas\, y consultas para adultos
 . \nDr. Mario offers physical exams\, vaccinations\, and adult consultatio
 ns.
DTSTART;TZID=America/Los_Angeles:20260212T083000
DTEND;TZID=America/Los_Angeles:20260212T163000
LOCATION:John Reed Elementary School\,   390 Arlen Dr. Portable 3\, Rohnert
  Park\, CA 94928 US
SUMMARY:Mobile Health Clinic/Clinica de Salud Movil Dr Mario
END:VEVENT
END:VCALENDAR
