BEGIN:VCALENDAR
VERSION:2.0
PRODID:-//calparents.org//NONSGML kigkonsult.se iCalcreator 2.30.10//
CALSCALE:GREGORIAN
METHOD:PUBLISH
UID:525dcd58-80b4-44f9-898b-103cbd7ecd8c
X-WR-CALDESC:Dr Shende Cherqueos fisicos\, vacunas\, y consultas pediatrica
 s y de adultos. \nDr. Shende offers physical exams\, vaccinations\, and pe
 diatric and adult consultations.
X-WR-RELCALID:40c972af47b14728d280227dd7c2b842
X-WR-TIMEZONE:America/Los_Angeles
BEGIN:VTIMEZONE
TZID:America/Los_Angeles
BEGIN:STANDARD
TZNAME:PST
DTSTART:20251102T020000
TZOFFSETFROM:-0700
TZOFFSETTO:-0800
RDATE:20261101T020000
END:STANDARD
BEGIN:DAYLIGHT
TZNAME:PDT
DTSTART:20250309T020000
TZOFFSETFROM:-0800
TZOFFSETTO:-0700
RDATE:20260308T020000
RDATE:20270314T020000
END:DAYLIGHT
END:VTIMEZONE
BEGIN:VEVENT
UID:201587cc-7d8f-4f42-a915-fd25d1273ef2
DTSTAMP:20260422T193645Z
DESCRIPTION:Dr Shende Cherqueos fisicos\, vacunas\, y consultas pediatricas
  y de adultos. \nDr. Shende offers physical exams\, vaccinations\, and ped
 iatric and adult consultations.
DTSTART;TZID=America/Los_Angeles:20260205T083000
DTEND;TZID=America/Los_Angeles:20260205T163000
LOCATION:John Reed Elementary School\,   390 Arlen Dr. Portable 3\, Rohnert
  Park\, CA 94928 US
SUMMARY:Mobile Health Clinic/Clinica de Salud Movil  Dr Shende
END:VEVENT
END:VCALENDAR
