BEGIN:VCALENDAR
VERSION:2.0
PRODID:-//calparents.org//NONSGML kigkonsult.se iCalcreator 2.30.10//
CALSCALE:GREGORIAN
METHOD:PUBLISH
UID:fea40bb1-81b4-42c0-95ec-80f0fcf2f879
X-WR-CALDESC:Te invitamos a nuestro taller Cultivando bienestar donde apren
 deras\, tecnicas de relajacion\, respiracion y meditacion.
X-WR-RELCALID:8f60126c60821ce746f1259184a1e414
X-WR-TIMEZONE:America/Los_Angeles
BEGIN:VTIMEZONE
TZID:America/Los_Angeles
BEGIN:STANDARD
TZNAME:PST
DTSTART:20251102T020000
TZOFFSETFROM:-0700
TZOFFSETTO:-0800
RDATE:20261101T020000
END:STANDARD
BEGIN:DAYLIGHT
TZNAME:PDT
DTSTART:20250309T020000
TZOFFSETFROM:-0800
TZOFFSETTO:-0700
RDATE:20260308T020000
RDATE:20270314T020000
END:DAYLIGHT
END:VTIMEZONE
BEGIN:VEVENT
UID:d987624d-ba70-4065-8152-0df308ffa514
DTSTAMP:20260422T193236Z
DESCRIPTION:Te invitamos a nuestro taller Cultivando bienestar donde aprend
 eras\, tecnicas de relajacion\, respiracion y meditacion.
DTSTART;TZID=America/Los_Angeles:20260205T173000
DTEND;TZID=America/Los_Angeles:20260205T183000
LOCATION:John Reed Elementary School\,   390 Arlen Dr. Portable 3\, Rohnert
  Park\, CA 94928 US
SUMMARY:Medicina\, Mente y cuerpo
END:VEVENT
END:VCALENDAR
