BEGIN:VCALENDAR
VERSION:2.0
PRODID:-//calparents.org//NONSGML kigkonsult.se iCalcreator 2.30.10//
CALSCALE:GREGORIAN
METHOD:PUBLISH
UID:3d8ae187-3a84-4a18-bde2-b2174018257a
X-WR-CALDESC:Mobile clinic adults and children consultations\, Check ups\, 
 vaccinations. etc. \nClínica móvil: consultas para adultos y niños\, revis
 iones médicas\, vacunaciones\, etc.\nDr. Mario
X-WR-RELCALID:68872cfc88b8839547f7ea88e3e41821
X-WR-TIMEZONE:America/Los_Angeles
BEGIN:VTIMEZONE
TZID:America/Los_Angeles
BEGIN:STANDARD
TZNAME:PST
DTSTART:20251102T020000
TZOFFSETFROM:-0700
TZOFFSETTO:-0800
RDATE:20261101T020000
END:STANDARD
BEGIN:DAYLIGHT
TZNAME:PDT
DTSTART:20250309T020000
TZOFFSETFROM:-0800
TZOFFSETTO:-0700
RDATE:20260308T020000
RDATE:20270314T020000
END:DAYLIGHT
END:VTIMEZONE
BEGIN:VEVENT
UID:b02af868-c540-4341-b333-3bf29d0ea52c
DTSTAMP:20260422T211937Z
DESCRIPTION:Mobile clinic adults and children consultations\, Check ups\, v
 accinations. etc. \nClínica móvil: consultas para adultos y niños\, revisi
 ones médicas\, vacunaciones\, etc.\nDr. Mario
DTSTART;TZID=America/Los_Angeles:20260129T083000
DTEND;TZID=America/Los_Angeles:20260129T163000
LOCATION:John Reed Elementary School\,   390 Arlen Dr. Portable 3\, Santa r
 osa\, CA 95404 US
SUMMARY:Mobile Health Clinic/Clinica de Salud Movil
END:VEVENT
END:VCALENDAR
