BEGIN:VCALENDAR
VERSION:2.0
PRODID:-//calparents.org//NONSGML kigkonsult.se iCalcreator 2.30.10//
CALSCALE:GREGORIAN
METHOD:PUBLISH
UID:c8944903-fc7b-4d13-bf96-2eebea8b4b09
X-WR-CALDESC:Every Friday of every week we have fresh fruits\, vegetables\,
  and/or produce for our families.\nCada Viernes de cada semana tenemos fru
 tas\, verduras y/ o vegetales  frescos para nuestras familias.
X-WR-RELCALID:8bd87361d29308282e0a2e1b129afd22
X-WR-TIMEZONE:America/Los_Angeles
BEGIN:VTIMEZONE
TZID:America/Los_Angeles
BEGIN:STANDARD
TZNAME:PST
DTSTART:20251102T020000
TZOFFSETFROM:-0700
TZOFFSETTO:-0800
RDATE:20261101T020000
END:STANDARD
BEGIN:DAYLIGHT
TZNAME:PDT
DTSTART:20250309T020000
TZOFFSETFROM:-0800
TZOFFSETTO:-0700
RDATE:20260308T020000
RDATE:20270314T020000
END:DAYLIGHT
END:VTIMEZONE
BEGIN:VEVENT
UID:8941d335-daf0-427e-a5d9-9fb987e05dab
DTSTAMP:20260422T205851Z
DESCRIPTION:Every Friday of every week we have fresh fruits\, vegetables\, 
 and/or produce for our families.\nCada Viernes de cada semana tenemos frut
 as\, verduras y/ o vegetales  frescos para nuestras familias.
DTSTART;TZID=America/Los_Angeles:20260128T130000
DTEND;TZID=America/Los_Angeles:20260128T140000
LOCATION:John Reed Elementary School\,   390 Arlen Dr. Portable 3\, Rohnert
  Park\, CA 94928 US
SUMMARY:Farm to Pantry. - De la Granja a la Despensa
END:VEVENT
END:VCALENDAR
