BEGIN:VCALENDAR
VERSION:2.0
PRODID:-//calparents.org//NONSGML kigkonsult.se iCalcreator 2.30.10//
CALSCALE:GREGORIAN
METHOD:PUBLISH
UID:5d0f82aa-4344-4df4-b760-9da73b45b46a
X-WR-CALDESC:Los invitamos a nuestro taller La union atraves del arte para 
 incrementar y fortalecer los  lazos con nuestros hijos asi como a pasar ti
 empo de calidad como  familia.
X-WR-RELCALID:08d08b729211cc571a82a76873613fb9
X-WR-TIMEZONE:America/Los_Angeles
BEGIN:VTIMEZONE
TZID:America/Los_Angeles
BEGIN:STANDARD
TZNAME:PST
DTSTART:20251102T020000
TZOFFSETFROM:-0700
TZOFFSETTO:-0800
RDATE:20261101T020000
END:STANDARD
BEGIN:DAYLIGHT
TZNAME:PDT
DTSTART:20250309T020000
TZOFFSETFROM:-0800
TZOFFSETTO:-0700
RDATE:20260308T020000
RDATE:20270314T020000
END:DAYLIGHT
END:VTIMEZONE
BEGIN:VEVENT
UID:a3aefe82-8e28-45aa-83c3-6eddc821e084
DTSTAMP:20260422T210423Z
DESCRIPTION:Los invitamos a nuestro taller La union atraves del arte para i
 ncrementar y fortalecer los  lazos con nuestros hijos asi como a pasar tie
 mpo de calidad como  familia.
DTSTART;TZID=America/Los_Angeles:20260127T173000
DTEND;TZID=America/Los_Angeles:20260127T183000
LOCATION:John Reed Elementary School\,   390 Arlen Dr. Portable 3\, Rohnert
  Park\, CA 94928 US
SUMMARY:Bonding through the art/ La union a traves del arte
END:VEVENT
END:VCALENDAR
