BEGIN:VCALENDAR
VERSION:2.0
PRODID:-//calparents.org//NONSGML kigkonsult.se iCalcreator 2.30.10//
CALSCALE:GREGORIAN
METHOD:PUBLISH
UID:613246c3-181e-42ad-914e-09fbb715fef5
X-WR-CALDESC:Cada otro Lunes recogemos colmida del Banco de comida y reabas
 tecemos la despensa de nuestro centro de recursos familiares . \nEvery oth
 er Monday we pick up food from the food bank and restock the pantry at our
  family resource center.
X-WR-RELCALID:4e1afbd2ec6e6b2865b2bf11dffcf913
X-WR-TIMEZONE:America/Los_Angeles
BEGIN:VTIMEZONE
TZID:America/Los_Angeles
BEGIN:STANDARD
TZNAME:PST
DTSTART:20251102T020000
TZOFFSETFROM:-0700
TZOFFSETTO:-0800
RDATE:20261101T020000
END:STANDARD
BEGIN:DAYLIGHT
TZNAME:PDT
DTSTART:20250309T020000
TZOFFSETFROM:-0800
TZOFFSETTO:-0700
RDATE:20260308T020000
RDATE:20270314T020000
END:DAYLIGHT
END:VTIMEZONE
BEGIN:VEVENT
UID:53aa7ff2-48a6-421b-ae1a-eb79ea7f0baa
DTSTAMP:20260422T210423Z
DESCRIPTION:Cada otro Lunes recogemos colmida del Banco de comida y reabast
 ecemos la despensa de nuestro centro de recursos familiares . \nEvery othe
 r Monday we pick up food from the food bank and restock the pantry at our 
 family resource center.
DTSTART;TZID=America/Los_Angeles:20260126T140000
DTEND;TZID=America/Los_Angeles:20260126T150000
LOCATION:John Reed Elementary School\,   390 Arlen Dr. Portable 3\, Rohnert
  Park\, CA 94928 US
SUMMARY:Despensa de alimentos del Banco de comida del RFC reabastecida/ RFC
  Food Pantry Restocked
END:VEVENT
END:VCALENDAR
