BEGIN:VCALENDAR
VERSION:2.0
PRODID:-//calparents.org//NONSGML kigkonsult.se iCalcreator 2.30.10//
CALSCALE:GREGORIAN
METHOD:PUBLISH
UID:62a05881-eef3-4a2b-b636-34b4be5070ef
X-WR-CALDESC:Unase a nuestro grupo de apoyo Cafecito para Mama\, donde podr
 a crear vinculos con otras mamas\, intercambiar experiencias y apoyarse en
 tre si.
X-WR-RELCALID:431ff09cec6daaa0712c6acdafb80fd5
X-WR-TIMEZONE:America/Los_Angeles
BEGIN:VTIMEZONE
TZID:America/Los_Angeles
BEGIN:STANDARD
TZNAME:PST
DTSTART:20251102T020000
TZOFFSETFROM:-0700
TZOFFSETTO:-0800
RDATE:20261101T020000
END:STANDARD
BEGIN:DAYLIGHT
TZNAME:PDT
DTSTART:20250309T020000
TZOFFSETFROM:-0800
TZOFFSETTO:-0700
RDATE:20260308T020000
RDATE:20270314T020000
END:DAYLIGHT
END:VTIMEZONE
BEGIN:VEVENT
UID:7f8e5dd3-b5eb-4c33-8e6c-af829cce80e9
DTSTAMP:20260422T205456Z
DESCRIPTION:Unase a nuestro grupo de apoyo Cafecito para Mama\, donde podra
  crear vinculos con otras mamas\, intercambiar experiencias y apoyarse ent
 re si.
DTSTART;TZID=America/Los_Angeles:20260120T083000
DTEND;TZID=America/Los_Angeles:20260120T103000
LOCATION:John Reed Elementary School\,   390 Arlen Dr. Portable 3\, Rohnert
  Park\, CA 94928 US
SUMMARY:Cafecito para mama
END:VEVENT
END:VCALENDAR
