BEGIN:VCALENDAR
VERSION:2.0
PRODID:-//calparents.org//NONSGML kigkonsult.se iCalcreator 2.30.10//
CALSCALE:GREGORIAN
METHOD:PUBLISH
UID:7bfacc00-c491-4669-87fa-a8c26ce8073e
X-WR-CALDESC:Mobile clinic adults and children consultations\, Check ups\, 
 vaccinations. etc. \nClínica móvil: consultas para adultos y niños\, revis
 iones médicas\, vacunaciones\, etc.
X-WR-RELCALID:1c5b76cd7f51cbc366ee7ef921db39dc
X-WR-TIMEZONE:America/Los_Angeles
BEGIN:VTIMEZONE
TZID:America/Los_Angeles
BEGIN:STANDARD
TZNAME:PST
DTSTART:20251102T020000
TZOFFSETFROM:-0700
TZOFFSETTO:-0800
RDATE:20261101T020000
END:STANDARD
BEGIN:DAYLIGHT
TZNAME:PDT
DTSTART:20250309T020000
TZOFFSETFROM:-0800
TZOFFSETTO:-0700
RDATE:20260308T020000
RDATE:20270314T020000
END:DAYLIGHT
END:VTIMEZONE
BEGIN:VEVENT
UID:a94f93d8-356a-4629-b94f-3b67cc8f91d1
DTSTAMP:20260422T210509Z
DESCRIPTION:Mobile clinic adults and children consultations\, Check ups\, v
 accinations. etc. \nClínica móvil: consultas para adultos y niños\, revisi
 ones médicas\, vacunaciones\, etc.
DTSTART;TZID=America/Los_Angeles:20260115T083000
DTEND;TZID=America/Los_Angeles:20260115T163000
LOCATION:John Reed Elementary School\,   390 Arlen Dr. Portable 3\, Rohnert
  Park\, CA 94928 US
SUMMARY:Mobile Health Clinic/Clinica de Salud Movil
END:VEVENT
END:VCALENDAR
