BEGIN:VCALENDAR
VERSION:2.0
PRODID:-//calparents.org//NONSGML kigkonsult.se iCalcreator 2.30.10//
CALSCALE:GREGORIAN
METHOD:PUBLISH
UID:85ec2611-6be2-45ea-8971-d5d29d686658
X-WR-CALDESC:Closed for Thanksgiving/ Cerrado por Acción de Gracias
X-WR-RELCALID:caf89a6f5f5594abd9828dfa4fa7585a
X-WR-TIMEZONE:America/Los_Angeles
BEGIN:VTIMEZONE
TZID:America/Los_Angeles
BEGIN:STANDARD
TZNAME:PST
DTSTART:20251102T020000
TZOFFSETFROM:-0700
TZOFFSETTO:-0800
RDATE:20261101T020000
END:STANDARD
BEGIN:DAYLIGHT
TZNAME:PDT
DTSTART:20250309T020000
TZOFFSETFROM:-0800
TZOFFSETTO:-0700
RDATE:20260308T020000
RDATE:20270314T020000
END:DAYLIGHT
END:VTIMEZONE
BEGIN:VEVENT
UID:d0256276-5585-4ef8-b820-4bfac22d2234
DTSTAMP:20260423T004306Z
DESCRIPTION:Closed for Thanksgiving/ Cerrado por Acción de Gracias
DTSTART;TZID=America/Los_Angeles:20251127T090000
DTEND;TZID=America/Los_Angeles:20251127T173000
LOCATION:John Reed Elementary School\,   390 Arlen Dr. Portable 3 \, Rohner
 t Park \, AL 94928 US
SUMMARY:CLOSED- Thanksgiving/ Cerrado por Acción de Gracias
END:VEVENT
END:VCALENDAR
