BEGIN:VCALENDAR
VERSION:2.0
PRODID:-//calparents.org//NONSGML kigkonsult.se iCalcreator 2.30.10//
CALSCALE:GREGORIAN
METHOD:PUBLISH
UID:4bf26a05-6062-417e-9fbf-37b35b7a1753
X-WR-CALDESC:
X-WR-RELCALID:e3ad2d45130bb474151b51db4dcba712
X-WR-TIMEZONE:America/Los_Angeles
BEGIN:VTIMEZONE
TZID:America/Los_Angeles
BEGIN:STANDARD
TZNAME:PST
DTSTART:20251102T020000
TZOFFSETFROM:-0700
TZOFFSETTO:-0800
RDATE:20261101T020000
END:STANDARD
BEGIN:DAYLIGHT
TZNAME:PDT
DTSTART:20250309T020000
TZOFFSETFROM:-0800
TZOFFSETTO:-0700
RDATE:20260308T020000
RDATE:20270314T020000
END:DAYLIGHT
END:VTIMEZONE
BEGIN:VEVENT
UID:32027c6a-fd34-491c-b5b5-5227f4a7cf71
DTSTAMP:20260423T002841Z
DESCRIPTION:
DTSTART;TZID=America/Los_Angeles:20251125T083000
DTEND;TZID=America/Los_Angeles:20251125T103000
LOCATION:John Reed Elementary School\,   390 Arlen Dr. Portable 3 \, Rohner
 t Park \, CA 94928 US
SUMMARY:Cafecito para Mamás
END:VEVENT
END:VCALENDAR
