BEGIN:VCALENDAR
VERSION:2.0
PRODID:-//calparents.org//NONSGML kigkonsult.se iCalcreator 2.30.10//
CALSCALE:GREGORIAN
METHOD:PUBLISH
UID:8a969b5d-63e7-4439-8d17-e2919ad8fa32
X-WR-CALDESC:Mobile Clinic comes every Thursday from 8:30 am to 4:30 pm at 
 John Reed Elementary school.
X-WR-RELCALID:458ad34f0a7ac80c0e7d7bafd7237c76
X-WR-TIMEZONE:America/Los_Angeles
BEGIN:VTIMEZONE
TZID:America/Los_Angeles
BEGIN:STANDARD
TZNAME:PST
DTSTART:20251102T020000
TZOFFSETFROM:-0700
TZOFFSETTO:-0800
RDATE:20261101T020000
END:STANDARD
BEGIN:DAYLIGHT
TZNAME:PDT
DTSTART:20250309T020000
TZOFFSETFROM:-0800
TZOFFSETTO:-0700
RDATE:20260308T020000
RDATE:20270314T020000
END:DAYLIGHT
END:VTIMEZONE
BEGIN:VEVENT
UID:66ae89ef-af39-4042-a611-40689d72e2e0
DTSTAMP:20260423T004338Z
DESCRIPTION:Mobile Clinic comes every Thursday from 8:30 am to 4:30 pm at J
 ohn Reed Elementary school.
DTSTART;TZID=America/Los_Angeles:20251120T083000
DTEND;TZID=America/Los_Angeles:20251120T163000
LOCATION:John Reed Elementary School\,   390 Arlen Dr. Portable 3\, Rohnert
  Park\, CA 94928 US
SUMMARY:Mobile Health Clinic/Clinica de Salud Movil
END:VEVENT
END:VCALENDAR
