BEGIN:VCALENDAR
VERSION:2.0
PRODID:-//calparents.org//NONSGML kigkonsult.se iCalcreator 2.30.10//
CALSCALE:GREGORIAN
METHOD:PUBLISH
UID:ec3674ea-ed37-4c32-9ee4-d905793859d9
X-WR-CALDESC:Mobile clinic comes at John reed elementary school every Thurs
 day from 8\;30 to 4\;30 pm.
X-WR-RELCALID:f44b228cf135de472d7754a0c887974d
X-WR-TIMEZONE:America/Los_Angeles
BEGIN:VTIMEZONE
TZID:America/Los_Angeles
BEGIN:STANDARD
TZNAME:PST
DTSTART:20251102T020000
TZOFFSETFROM:-0700
TZOFFSETTO:-0800
RDATE:20261101T020000
END:STANDARD
BEGIN:DAYLIGHT
TZNAME:PDT
DTSTART:20250309T020000
TZOFFSETFROM:-0800
TZOFFSETTO:-0700
RDATE:20260308T020000
RDATE:20270314T020000
END:DAYLIGHT
END:VTIMEZONE
BEGIN:VEVENT
UID:52b0c9f6-3f3a-4922-8380-6765b1f29be9
DTSTAMP:20260423T004306Z
DESCRIPTION:Mobile clinic comes at John reed elementary school every Thursd
 ay from 8\;30 to 4\;30 pm.
DTSTART;TZID=America/Los_Angeles:20251113T113000
DTEND;TZID=America/Los_Angeles:20251113T123000
LOCATION:John Reed Elementary School\,   390 Arlen Dr. Portable 3\, Rohnert
  Park\, CA 94928 US
SUMMARY:Mobile Health Clinic/Clinica de Salud Movil
END:VEVENT
END:VCALENDAR
