BEGIN:VCALENDAR
VERSION:2.0
PRODID:-//calparents.org//NONSGML kigkonsult.se iCalcreator 2.30.10//
CALSCALE:GREGORIAN
METHOD:PUBLISH
UID:ddcd3710-aa81-4b39-bc52-94372d3858d4
X-WR-CALDESC:Mobile Clinic comes every Thursday from 8:30 am to 4:30 pm at 
 John Reed Elementary school.
X-WR-RELCALID:94fcc463004041e21edef1d58bb0def8
X-WR-TIMEZONE:America/Los_Angeles
BEGIN:VTIMEZONE
TZID:America/Los_Angeles
BEGIN:STANDARD
TZNAME:PST
DTSTART:20251102T020000
TZOFFSETFROM:-0700
TZOFFSETTO:-0800
RDATE:20261101T020000
END:STANDARD
BEGIN:DAYLIGHT
TZNAME:PDT
DTSTART:20250309T020000
TZOFFSETFROM:-0800
TZOFFSETTO:-0700
RDATE:20260308T020000
RDATE:20270314T020000
END:DAYLIGHT
END:VTIMEZONE
BEGIN:VEVENT
UID:7929d7c4-5734-4242-8bee-a3016808a46f
DTSTAMP:20260423T004113Z
DESCRIPTION:Mobile Clinic comes every Thursday from 8:30 am to 4:30 pm at J
 ohn Reed Elementary school.
DTSTART;TZID=America/Los_Angeles:20251106T083000
DTEND;TZID=America/Los_Angeles:20251106T163000
LOCATION:John Reed Elementary School\,   390 Arlen Dr. Portable 3\, Rohnert
  Park\, CA 94928 US
SUMMARY:Mobile Health Clinic/Clinica de Salud Movil
END:VEVENT
END:VCALENDAR
