BEGIN:VCALENDAR
VERSION:2.0
PRODID:-//calparents.org//NONSGML kigkonsult.se iCalcreator 2.30.10//
CALSCALE:GREGORIAN
METHOD:PUBLISH
UID:fd593d3d-5da2-490b-bcff-b520f3485f95
X-WR-CALDESC:
X-WR-RELCALID:bfc65a68d96515c671c8358b51b2159e
X-WR-TIMEZONE:America/Los_Angeles
BEGIN:VTIMEZONE
TZID:America/Los_Angeles
BEGIN:STANDARD
TZNAME:PST
DTSTART:20241103T020000
TZOFFSETFROM:-0700
TZOFFSETTO:-0800
RDATE:20251102T020000
RDATE:20261101T020000
END:STANDARD
BEGIN:DAYLIGHT
TZNAME:PDT
DTSTART:20250309T020000
TZOFFSETFROM:-0800
TZOFFSETTO:-0700
RDATE:20260308T020000
RDATE:20270314T020000
END:DAYLIGHT
END:VTIMEZONE
BEGIN:VEVENT
UID:66109605-a10d-4efc-87e7-3fe9f19e73d0
DTSTAMP:20260423T020115Z
DESCRIPTION:
DTSTART;TZID=America/Los_Angeles:20251028T173000
DTEND;TZID=America/Los_Angeles:20251028T183000
LOCATION:John Reed Elementary School\,   390 Arlen Dr. Portable 3 \, Rohner
 t Park \, CA 94928 US
SUMMARY:La Union a Traves del Arte/ Bonding Through Art
END:VEVENT
END:VCALENDAR
