BEGIN:VCALENDAR
VERSION:2.0
PRODID:-//calparents.org//NONSGML kigkonsult.se iCalcreator 2.30.10//
CALSCALE:GREGORIAN
METHOD:PUBLISH
UID:4f17313d-ea16-4452-9f92-9fda4d9cd813
X-WR-CALDESC:Nuestro objetivo es crear un espacio seguro creando lazos de a
 mistad y confianza\, mientras convivimos y aprendemos unas de otras.
X-WR-RELCALID:4f22c7c836437081820fc5906b784b87
X-WR-TIMEZONE:America/Los_Angeles
BEGIN:VTIMEZONE
TZID:America/Los_Angeles
BEGIN:STANDARD
TZNAME:PST
DTSTART:20241103T020000
TZOFFSETFROM:-0700
TZOFFSETTO:-0800
RDATE:20251102T020000
RDATE:20261101T020000
END:STANDARD
BEGIN:DAYLIGHT
TZNAME:PDT
DTSTART:20250309T020000
TZOFFSETFROM:-0800
TZOFFSETTO:-0700
RDATE:20260308T020000
RDATE:20270314T020000
END:DAYLIGHT
END:VTIMEZONE
BEGIN:VEVENT
UID:ef6666b6-11fb-4aa5-a53d-2075526c6284
DTSTAMP:20260423T040526Z
DESCRIPTION:Nuestro objetivo es crear un espacio seguro creando lazos de am
 istad y confianza\, mientras convivimos y aprendemos unas de otras.
DTSTART;TZID=America/Los_Angeles:20250930T083000
DTEND;TZID=America/Los_Angeles:20250930T103000
LOCATION:John Reed Elementary School\,   390 Arlen Dr. Portable 3\, Rohnert
  Park\, CA 94928 US
SUMMARY:Cafecito para mama
END:VEVENT
END:VCALENDAR
