BEGIN:VCALENDAR
VERSION:2.0
PRODID:-//calparents.org//NONSGML kigkonsult.se iCalcreator 2.30.10//
CALSCALE:GREGORIAN
METHOD:PUBLISH
UID:0de8973c-1afe-4a99-8aa3-b705d839784e
X-WR-CALDESC:Mobile Clinic comes every Thursday from 8:30 am to 4:30 pm at 
 John Reed Elementary school. \nvaccinations \, physical checkup.
X-WR-RELCALID:75ddd28c480a972d8363bcacc2cb1a09
X-WR-TIMEZONE:America/Los_Angeles
BEGIN:VTIMEZONE
TZID:America/Los_Angeles
BEGIN:STANDARD
TZNAME:PST
DTSTART:20241103T020000
TZOFFSETFROM:-0700
TZOFFSETTO:-0800
RDATE:20251102T020000
RDATE:20261101T020000
END:STANDARD
BEGIN:DAYLIGHT
TZNAME:PDT
DTSTART:20250309T020000
TZOFFSETFROM:-0800
TZOFFSETTO:-0700
RDATE:20260308T020000
RDATE:20270314T020000
END:DAYLIGHT
END:VTIMEZONE
BEGIN:VEVENT
UID:59c5ac2f-3f1b-4441-8a7c-95b8c81fdb56
DTSTAMP:20260423T040650Z
DESCRIPTION:Mobile Clinic comes every Thursday from 8:30 am to 4:30 pm at J
 ohn Reed Elementary school. \nvaccinations \, physical checkup.
DTSTART;TZID=America/Los_Angeles:20250925T083000
DTEND;TZID=America/Los_Angeles:20250925T163000
LOCATION:John Reed Elementary School\,   390 Arlen Dr. Portable 3\, Rohnert
  Park\, AL 94928 US
SUMMARY:Mobile Health Clinic/Clinica de Salud Movil
END:VEVENT
END:VCALENDAR
