BEGIN:VCALENDAR
VERSION:2.0
PRODID:-//calparents.org//NONSGML kigkonsult.se iCalcreator 2.30.10//
CALSCALE:GREGORIAN
METHOD:PUBLISH
UID:e5a22381-2cdf-45a9-9336-088f41a9323f
X-WR-CALDESC:Unase a nosotros para crear obras de arte que puedan aumentar 
 el bienestar emocional de su hijo.
X-WR-RELCALID:6bec28bb64d1cc3d446393b9297abe30
X-WR-TIMEZONE:America/Los_Angeles
BEGIN:VTIMEZONE
TZID:America/Los_Angeles
BEGIN:STANDARD
TZNAME:PST
DTSTART:20241103T020000
TZOFFSETFROM:-0700
TZOFFSETTO:-0800
RDATE:20251102T020000
RDATE:20261101T020000
END:STANDARD
BEGIN:DAYLIGHT
TZNAME:PDT
DTSTART:20250309T020000
TZOFFSETFROM:-0800
TZOFFSETTO:-0700
RDATE:20260308T020000
RDATE:20270314T020000
END:DAYLIGHT
END:VTIMEZONE
BEGIN:VEVENT
UID:ac79139b-6532-4fb5-9c09-77c015098e09
DTSTAMP:20260423T040629Z
DESCRIPTION:Unase a nosotros para crear obras de arte que puedan aumentar e
 l bienestar emocional de su hijo.
DTSTART;TZID=America/Los_Angeles:20250923T173000
DTEND;TZID=America/Los_Angeles:20250923T183000
LOCATION:John Reed Elementary School\,   390 Arlen Dr. Portable 3\, Rohnert
  Park\, CA 94928 US
SUMMARY:Bonding through the art/ La union a traves del arte
END:VEVENT
END:VCALENDAR
