BEGIN:VCALENDAR
VERSION:2.0
PRODID:-//calparents.org//NONSGML kigkonsult.se iCalcreator 2.30.10//
CALSCALE:GREGORIAN
METHOD:PUBLISH
UID:6c1b81ce-05eb-4635-9a23-2db33d09e4b7
X-WR-CALDESC:Ofrecemos un entorno seguro donde los padres pueden expresarse
  abiertamente. Recuerda que no estas solo.
X-WR-RELCALID:1de2a64ffaf781ef0df9bea2c14a68ff
X-WR-TIMEZONE:America/Los_Angeles
BEGIN:VTIMEZONE
TZID:America/Los_Angeles
BEGIN:STANDARD
TZNAME:PST
DTSTART:20241103T020000
TZOFFSETFROM:-0700
TZOFFSETTO:-0800
RDATE:20251102T020000
RDATE:20261101T020000
END:STANDARD
BEGIN:DAYLIGHT
TZNAME:PDT
DTSTART:20250309T020000
TZOFFSETFROM:-0800
TZOFFSETTO:-0700
RDATE:20260308T020000
RDATE:20270314T020000
END:DAYLIGHT
END:VTIMEZONE
BEGIN:VEVENT
UID:25a469a7-9670-4faa-88ca-d7089e44d939
DTSTAMP:20260423T040623Z
DESCRIPTION:Ofrecemos un entorno seguro donde los padres pueden expresarse 
 abiertamente. Recuerda que no estas solo.
DTSTART;TZID=America/Los_Angeles:20250919T180000
DTEND;TZID=America/Los_Angeles:20250919T190000
LOCATION:John Reed Elementary School\,   390 Arlen Dr. Portable 3\, Rohnert
  Park\, CA 94928 US
SUMMARY:Fathers Figures/ Figuras Paternas
END:VEVENT
END:VCALENDAR
