BEGIN:VCALENDAR
VERSION:2.0
PRODID:-//calparents.org//NONSGML kigkonsult.se iCalcreator 2.30.10//
CALSCALE:GREGORIAN
METHOD:PUBLISH
UID:ca1c51f2-a492-480b-b4c3-c87e21ed1799
X-WR-CALDESC:Mobile clinic comes at John reed elementary school every Thurs
 day from 8\;30 to 4\;30 pm.
X-WR-RELCALID:807bd4203a8a980798392adc6921e2a4
X-WR-TIMEZONE:America/Los_Angeles
BEGIN:VTIMEZONE
TZID:America/Los_Angeles
BEGIN:STANDARD
TZNAME:PST
DTSTART:20241103T020000
TZOFFSETFROM:-0700
TZOFFSETTO:-0800
RDATE:20251102T020000
RDATE:20261101T020000
END:STANDARD
BEGIN:DAYLIGHT
TZNAME:PDT
DTSTART:20250309T020000
TZOFFSETFROM:-0800
TZOFFSETTO:-0700
RDATE:20260308T020000
RDATE:20270314T020000
END:DAYLIGHT
END:VTIMEZONE
BEGIN:VEVENT
UID:3074089f-8145-48bc-bba3-d19e7359a715
DTSTAMP:20260423T040337Z
DESCRIPTION:Mobile clinic comes at John reed elementary school every Thursd
 ay from 8\;30 to 4\;30 pm.
DTSTART;TZID=America/Los_Angeles:20250918T030000
DTEND;TZID=America/Los_Angeles:20250918T030001
LOCATION:John Reed Elementary School\,   390 Arlen Dr. Portable 3\, Rohnert
  Park\, CA 94928 US
SUMMARY:Mobile Health Clinic/Clinica de Salud Movil (Dr Mario)
END:VEVENT
END:VCALENDAR
