BEGIN:VCALENDAR
VERSION:2.0
PRODID:-//calparents.org//NONSGML kigkonsult.se iCalcreator 2.30.10//
CALSCALE:GREGORIAN
METHOD:PUBLISH
UID:73260324-a8e4-47e4-9c17-24aa07520a2d
X-WR-CALDESC:Nuestro objetivo es crear un espacio seguro creando lazos de a
 mistad y confianza\,  mientras convivimos y aprendemos unas de otras.
X-WR-RELCALID:eeb16735e23db310e7e63b9c07ce63d7
X-WR-TIMEZONE:America/Los_Angeles
BEGIN:VTIMEZONE
TZID:America/Los_Angeles
BEGIN:STANDARD
TZNAME:PST
DTSTART:20241103T020000
TZOFFSETFROM:-0700
TZOFFSETTO:-0800
RDATE:20251102T020000
RDATE:20261101T020000
END:STANDARD
BEGIN:DAYLIGHT
TZNAME:PDT
DTSTART:20250309T020000
TZOFFSETFROM:-0800
TZOFFSETTO:-0700
RDATE:20260308T020000
RDATE:20270314T020000
END:DAYLIGHT
END:VTIMEZONE
BEGIN:VEVENT
UID:a6519fdc-5ec2-4bfc-a5fe-fd35b9c4cd3a
DTSTAMP:20260423T040459Z
DESCRIPTION:Nuestro objetivo es crear un espacio seguro creando lazos de am
 istad y confianza\,  mientras convivimos y aprendemos unas de otras.
DTSTART;TZID=America/Los_Angeles:20250916T083000
DTEND;TZID=America/Los_Angeles:20250916T103000
LOCATION:John Reed Elementary School\,   390 Arlen Dr. Portable 3\, Rohnert
  Park\, CA 94928 US
SUMMARY:Cafecito para mama
END:VEVENT
END:VCALENDAR
