BEGIN:VCALENDAR
VERSION:2.0
PRODID:-//calparents.org//NONSGML kigkonsult.se iCalcreator 2.30.10//
CALSCALE:GREGORIAN
METHOD:PUBLISH
UID:917aa760-20b0-4704-97d7-fcca82db05d0
X-WR-CALDESC:The Mobile Clinic come to the John Reed Elementary school ever
 y Thursday from 8:30 am to 4:30 pm.
X-WR-RELCALID:7bf53ea161f3b81f6f72d1ce1f3a7c37
X-WR-TIMEZONE:America/Los_Angeles
BEGIN:VTIMEZONE
TZID:America/Los_Angeles
BEGIN:STANDARD
TZNAME:PST
DTSTART:20241103T020000
TZOFFSETFROM:-0700
TZOFFSETTO:-0800
RDATE:20251102T020000
RDATE:20261101T020000
END:STANDARD
BEGIN:DAYLIGHT
TZNAME:PDT
DTSTART:20250309T020000
TZOFFSETFROM:-0800
TZOFFSETTO:-0700
RDATE:20260308T020000
END:DAYLIGHT
END:VTIMEZONE
BEGIN:VEVENT
UID:f27e638f-8a5c-4bb3-9b35-63a8ec9f0fc6
DTSTAMP:20260423T051151Z
DESCRIPTION:The Mobile Clinic come to the John Reed Elementary school every
  Thursday from 8:30 am to 4:30 pm.
DTSTART;TZID=America/Los_Angeles:20250911T083000
DTEND;TZID=America/Los_Angeles:20250911T163000
LOCATION:John Reed Elementary School\,   390 Arlen Dr. Portable 3\, Rohnert
  Park\, CA 94928 US
SUMMARY:Mobile Health Clinic/Clinica de Salud Movil (Dr Shondel)
END:VEVENT
END:VCALENDAR
