BEGIN:VCALENDAR
VERSION:2.0
PRODID:-//calparents.org//NONSGML kigkonsult.se iCalcreator 2.30.10//
CALSCALE:GREGORIAN
METHOD:PUBLISH
UID:5ea36b11-043e-410d-905c-4ee49a9b431a
X-WR-CALDESC:Mobile clinic comes at John reed elementary school every Thurs
 day from 8\;30 am to 4\;30 pm.
X-WR-RELCALID:bb3f63b70a3f62c54cf5bf358f63d49d
X-WR-TIMEZONE:America/Los_Angeles
BEGIN:VTIMEZONE
TZID:America/Los_Angeles
BEGIN:STANDARD
TZNAME:PST
DTSTART:20241103T020000
TZOFFSETFROM:-0700
TZOFFSETTO:-0800
RDATE:20251102T020000
RDATE:20261101T020000
END:STANDARD
BEGIN:DAYLIGHT
TZNAME:PDT
DTSTART:20250309T020000
TZOFFSETFROM:-0800
TZOFFSETTO:-0700
RDATE:20260308T020000
END:DAYLIGHT
END:VTIMEZONE
BEGIN:VEVENT
UID:8b8f60e7-b877-4037-bf06-311f7572ac79
DTSTAMP:20260423T040049Z
DESCRIPTION:Mobile clinic comes at John reed elementary school every Thursd
 ay from 8\;30 am to 4\;30 pm.
DTSTART;TZID=America/Los_Angeles:20250904T083000
DTEND;TZID=America/Los_Angeles:20250904T163000
LOCATION:John Reed Elementary School\,   390 Arlen Dr. Portable 3\, Rohnert
  Park\, AL 94928 US
SUMMARY:Mobile Health Clinic/Clinica de Salud Movil (Dr Mario)
END:VEVENT
END:VCALENDAR
