BEGIN:VCALENDAR
VERSION:2.0
PRODID:-//calparents.org//NONSGML kigkonsult.se iCalcreator 2.30.10//
CALSCALE:GREGORIAN
METHOD:PUBLISH
UID:c5838e80-9df3-4f60-8194-d1775be06eaf
X-WR-CALDESC:Nuestro Objetivo es crear un espacio seguro para cada integran
 te asi como crear amistades y confianza\, mientras convivimos y aprendemos
  unas de otras.\n\n
X-WR-RELCALID:819272cc60294526fc4db7eb0125ae20
X-WR-TIMEZONE:America/Los_Angeles
BEGIN:VTIMEZONE
TZID:America/Los_Angeles
BEGIN:STANDARD
TZNAME:PST
DTSTART:20241103T020000
TZOFFSETFROM:-0700
TZOFFSETTO:-0800
RDATE:20251102T020000
RDATE:20261101T020000
END:STANDARD
BEGIN:DAYLIGHT
TZNAME:PDT
DTSTART:20250309T020000
TZOFFSETFROM:-0800
TZOFFSETTO:-0700
RDATE:20260308T020000
END:DAYLIGHT
END:VTIMEZONE
BEGIN:VEVENT
UID:30f01ca6-d1fe-473c-ae01-a5c5da0184ed
DTSTAMP:20260423T040049Z
DESCRIPTION:Nuestro Objetivo es crear un espacio seguro para cada integrant
 e asi como crear amistades y confianza\, mientras convivimos y aprendemos 
 unas de otras.\n\n
DTSTART;TZID=America/Los_Angeles:20250902T083000
DTEND;TZID=America/Los_Angeles:20250902T103000
LOCATION:John Reed Elementary School\,   390 Arlen Dr. Portable 3\, Rohnert
  Park\, CA 94928 US
SUMMARY:Cafecito para mama
END:VEVENT
END:VCALENDAR
