BEGIN:VCALENDAR
VERSION:2.0
PRODID:-//calparents.org//NONSGML kigkonsult.se iCalcreator 2.30.10//
CALSCALE:GREGORIAN
METHOD:PUBLISH
UID:a55ebcac-d3bd-41fe-9050-4b770dfce77c
X-WR-CALDESC:Dr Mario Chequeos fisicos\, vacunas\, y consultas para adultos
 .\nDr. Mario offers physical exams\, vaccinations\, and adult consultation
 s.
X-WR-RELCALID:24f9df0db5529bfa601e40477992da3d
X-WR-TIMEZONE:America/Los_Angeles
BEGIN:VTIMEZONE
TZID:America/Los_Angeles
BEGIN:STANDARD
TZNAME:PST
DTSTART:20251102T020000
TZOFFSETFROM:-0700
TZOFFSETTO:-0800
RDATE:20261101T020000
END:STANDARD
BEGIN:DAYLIGHT
TZNAME:PDT
DTSTART:20260308T020000
TZOFFSETFROM:-0800
TZOFFSETTO:-0700
RDATE:20270314T020000
END:DAYLIGHT
END:VTIMEZONE
BEGIN:VEVENT
UID:ce1a2731-bbef-4f84-a82a-f84b89bb789d
DTSTAMP:20260420T175805Z
DESCRIPTION:Dr Mario Chequeos fisicos\, vacunas\, y consultas para adultos.
 \nDr. Mario offers physical exams\, vaccinations\, and adult consultations
 .
DTSTART;TZID=America/Los_Angeles:20260430T083000
DTEND;TZID=America/Los_Angeles:20260430T163000
LOCATION:John Reed Elementary School\,   390 Arlen Dr. Portable 3\, Rohnert
  Park\, CA 94928 US
SUMMARY:Mobile Health Clinic/Clinica de Salud Movil
END:VEVENT
END:VCALENDAR
