BEGIN:VCALENDAR
VERSION:2.0
PRODID:-//calparents.org//NONSGML kigkonsult.se iCalcreator 2.30.10//
CALSCALE:GREGORIAN
METHOD:PUBLISH
UID:41925520-64ab-455d-a5c7-95ddef3d81ae
X-WR-CALDESC:Every other Friday of every week we have fresh fruits\, vegeta
 bles\, and/or produce for our families.\nUn Viernes si y uno no tenemos fr
 utas\, verduras y/ o vegetales frescos para nuestras familias.
X-WR-RELCALID:2a8cead687572b88f1754488ce625c1a
X-WR-TIMEZONE:America/Los_Angeles
BEGIN:VTIMEZONE
TZID:America/Los_Angeles
BEGIN:STANDARD
TZNAME:PST
DTSTART:20251102T020000
TZOFFSETFROM:-0700
TZOFFSETTO:-0800
RDATE:20261101T020000
END:STANDARD
BEGIN:DAYLIGHT
TZNAME:PDT
DTSTART:20260308T020000
TZOFFSETFROM:-0800
TZOFFSETTO:-0700
RDATE:20270314T020000
END:DAYLIGHT
END:VTIMEZONE
BEGIN:VEVENT
UID:a6287145-6d37-49b9-bc42-27f5b4d499bf
DTSTAMP:20260420T175719Z
DESCRIPTION:Every other Friday of every week we have fresh fruits\, vegetab
 les\, and/or produce for our families.\nUn Viernes si y uno no tenemos fru
 tas\, verduras y/ o vegetales frescos para nuestras familias.
DTSTART;TZID=America/Los_Angeles:20260424T123000
DTEND;TZID=America/Los_Angeles:20260424T160000
LOCATION:John Reed Elementary School\,   390 Arlen Dr. Portable 3\, Rohnert
  Park\, CA 94928 US
SUMMARY:Banco de Comida de John Reed/ John Reed Food Pantry
END:VEVENT
END:VCALENDAR
