BEGIN:VCALENDAR
VERSION:2.0
PRODID:-//calparents.org//NONSGML kigkonsult.se iCalcreator 2.30.10//
CALSCALE:GREGORIAN
METHOD:PUBLISH
UID:16324680-2d3f-456d-b67c-a7f494126c4b
X-WR-CALDESC:Encontrando los momentos de calma\nUnamonos en comunidad para 
 ofrecer el apoyo emocional que aveces buscamos despues del parto.
X-WR-RELCALID:6ad981c68d0840f4d63688e50d9eb8ed
X-WR-TIMEZONE:America/Los_Angeles
BEGIN:VTIMEZONE
TZID:America/Los_Angeles
BEGIN:STANDARD
TZNAME:PST
DTSTART:20251102T020000
TZOFFSETFROM:-0700
TZOFFSETTO:-0800
RDATE:20261101T020000
END:STANDARD
BEGIN:DAYLIGHT
TZNAME:PDT
DTSTART:20260308T020000
TZOFFSETFROM:-0800
TZOFFSETTO:-0700
RDATE:20270314T020000
END:DAYLIGHT
END:VTIMEZONE
BEGIN:VEVENT
UID:8cd9abf5-5e1c-4f7e-be51-f2ab82237fd8
DTSTAMP:20260420T175007Z
DESCRIPTION:Encontrando los momentos de calma\nUnamonos en comunidad para o
 frecer el apoyo emocional que aveces buscamos despues del parto.
DTSTART;TZID=America/Los_Angeles:20260422T083000
DTEND;TZID=America/Los_Angeles:20260422T100000
LOCATION:John Reed Elementary School\,   390 Arlen Dr. Portable 3\, Rohnert
  Park\, CA 94928 US
SUMMARY:Apapacho materno
END:VEVENT
END:VCALENDAR
