BEGIN:VCALENDAR
VERSION:2.0
PRODID:-//calparents.org//NONSGML kigkonsult.se iCalcreator 2.30.10//
CALSCALE:GREGORIAN
METHOD:PUBLISH
UID:d4ffe379-d06d-448c-8939-0d20b32c686c
X-WR-CALDESC:Magia del Manteado\nConoceremos la diferencia entre dormir y d
 escansar y como lograr que el sueno sea reparador.
X-WR-RELCALID:1120adad163a8a867651c74b88d78f90
X-WR-TIMEZONE:America/Los_Angeles
BEGIN:VTIMEZONE
TZID:America/Los_Angeles
BEGIN:STANDARD
TZNAME:PST
DTSTART:20251102T020000
TZOFFSETFROM:-0700
TZOFFSETTO:-0800
RDATE:20261101T020000
END:STANDARD
BEGIN:DAYLIGHT
TZNAME:PDT
DTSTART:20260308T020000
TZOFFSETFROM:-0800
TZOFFSETTO:-0700
RDATE:20270314T020000
END:DAYLIGHT
END:VTIMEZONE
BEGIN:VEVENT
UID:9286e127-bbe7-4e22-828f-bb2ddcf4befa
DTSTAMP:20260420T175215Z
DESCRIPTION:Magia del Manteado\nConoceremos la diferencia entre dormir y de
 scansar y como lograr que el sueno sea reparador.
DTSTART;TZID=America/Los_Angeles:20260415T083000
DTEND;TZID=America/Los_Angeles:20260415T100000
LOCATION:John Reed Elementary School\,   390 Arlen Dr. Portable 3\, Rohnert
  Park\, CA 94928 US
SUMMARY:Apapacho Materno
END:VEVENT
END:VCALENDAR
